BEGIN:VCALENDAR
VERSION:2.0
PRODID:-//Plone.org//NONSGML plone.app.event//EN
X-WR-TIMEZONE:Europe/Madrid
BEGIN:VEVENT
SUMMARY:Xerrada "La gestió i recollida selectiva de la matèria orgànica"
DTSTART;TZID=Europe/Madrid;VALUE=DATE-TIME:20220920T190000
DTEND;TZID=Europe/Madrid;VALUE=DATE-TIME:20220920T200000
DTSTAMP;VALUE=DATE-TIME:20260421T144829Z
UID:6bff9065a77515ca1fca045d931ac5fe
CREATED;VALUE=DATE-TIME:20220920T000000Z
CATEGORIES:Tertúlies
LOCATION:Espai d'arts escèniques Casal d'Alella - Carrer de Santa Teresa, 9 08328 Alella
ORGANIZER:Ajuntament d'Alella
COMMENT:Preu: Gratuït
Durada: 19:00-20:00h
URL:https://www.mynerva.net/ajalella/document.php?id=18001
END:VEVENT
END:VCALENDAR