BEGIN:VCALENDAR
VERSION:2.0
PRODID:-//Plone.org//NONSGML plone.app.event//EN
X-WR-TIMEZONE:Europe/Madrid
BEGIN:VEVENT
SUMMARY:Visita i maridatge amb pernil ibèric/formatges
DTSTART;TZID=Europe/Madrid;VALUE=DATE-TIME:20220812T120000
DTEND;TZID=Europe/Madrid;VALUE=DATE-TIME:20220812T130000
DTSTAMP;VALUE=DATE-TIME:20260421T112822Z
UID:c68c16c99d8bf18e681f9e812470836a
CREATED;VALUE=DATE-TIME:20220812T000000Z
CATEGORIES:Vi i gastronomia
LOCATION:Celler Alta Alella
ORGANIZER:Celler Alta Alella
COMMENT:Durada: 1h 30 min
DESCRIPTION:Celler Alta Alella
URL:https://www.mynerva.net/ajalella/document.php?id=18008
END:VEVENT
END:VCALENDAR