BEGIN:VCALENDAR
VERSION:2.0
PRODID:-//Plone.org//NONSGML plone.app.event//EN
X-WR-TIMEZONE:Europe/Madrid
BEGIN:VEVENT
SUMMARY:Mercat de les puces solidari de l'Associació per la defensa dels animals i la natura d'Alella
DTSTART;TZID=Europe/Madrid;VALUE=DATE-TIME:20220731T090000
DTEND;TZID=Europe/Madrid;VALUE=DATE-TIME:20220731T100000
DTSTAMP;VALUE=DATE-TIME:20260419T202428Z
UID:6e59e7533bfd08fd3b40dce05cd512c5
CREATED;VALUE=DATE-TIME:20220730T000000Z
CATEGORIES:Festes i fires
LOCATION:Moll de càrrega del Mercat Municipal
ORGANIZER:Associació per la defensa dels animals i la natura d'Alella
URL:https://www.mynerva.net/ajalella/document.php?id=18010
END:VEVENT
END:VCALENDAR