BEGIN:VCALENDAR
VERSION:2.0
PRODID:-//Plone.org//NONSGML plone.app.event//EN
X-WR-TIMEZONE:Europe/Madrid
BEGIN:VEVENT
SUMMARY:Sortida d'observació
DTSTART;TZID=Europe/Madrid;VALUE=DATE-TIME:20220917T100000
DTEND;TZID=Europe/Madrid;VALUE=DATE-TIME:20220917T110000
DTSTAMP;VALUE=DATE-TIME:20260419T145407Z
UID:42cbf0b83d1f7845f61661a7f9a22386
CREATED;VALUE=DATE-TIME:20220917T000000Z
CATEGORIES:Sortides
LOCATION:Biblioteca Municipal Ferrer i Guàrdia - Hort de la Rectoria. 08328 Alella
ORGANIZER:Ajuntament d'Alella
COMMENT:Preu: Gratuït
DESCRIPTION:Rapinyaires cap a l'Àfrica
URL:https://www.mynerva.net/ajalella/document.php?id=18013
END:VEVENT
END:VCALENDAR