BEGIN:VCALENDAR
VERSION:2.0
PRODID:-//Plone.org//NONSGML plone.app.event//EN
X-WR-TIMEZONE:Europe/Madrid
BEGIN:VEVENT
SUMMARY:Inscripcions a les activitats de la Festa de la Verema
DTSTART;TZID=Europe/Madrid;VALUE=DATE-TIME:20220826T100000
DTEND;TZID=Europe/Madrid;VALUE=DATE-TIME:20220826T110000
DTSTAMP;VALUE=DATE-TIME:20260421T192430Z
UID:f5fe841e1344b9fcfa89e7d79fcb4619
CREATED;VALUE=DATE-TIME:20220826T000000Z
CATEGORIES:Festes i fires,Vi i gastronomia,Tast de vins i most
LOCATION:Oficina de Turisme - Riera Fosca 2. 08328 Alella
ORGANIZER:Ajuntament d'Alella
URL:https://www.mynerva.net/ajalella/document.php?id=18024
END:VEVENT
END:VCALENDAR