BEGIN:VCALENDAR
VERSION:2.0
PRODID:-//Plone.org//NONSGML plone.app.event//EN
X-WR-TIMEZONE:Europe/Madrid
BEGIN:VEVENT
SUMMARY:Setmana Europea de Prevenció de Residus. Sortida a la planta de compostatge de Granollers
DTSTART;TZID=Europe/Madrid;VALUE=DATE-TIME:20221123T093000
DTEND;TZID=Europe/Madrid;VALUE=DATE-TIME:20221123T103000
DTSTAMP;VALUE=DATE-TIME:20260419T195635Z
UID:8268a69da74f6d524506b9ea4e9f062d
CREATED;VALUE=DATE-TIME:20221123T000000Z
CATEGORIES:Sortides,Jornades
LOCATION:Lloc de trobada: c/ de les Heures
ORGANIZER:Ajuntament d'Alella
COMMENT:Preu: gratuït
DESCRIPTION:Sortida en autocar a la planta de digestió anaeròbica i de compostatge de Granollers
URL:https://www.mynerva.net/ajalella/document.php?id=18030
END:VEVENT
END:VCALENDAR