BEGIN:VCALENDAR
VERSION:2.0
PRODID:-//Plone.org//NONSGML plone.app.event//EN
X-WR-TIMEZONE:Europe/Madrid
BEGIN:VEVENT
SUMMARY:Tertúlia en primera persona. L'exili polític nicaragüenc
DTSTART;TZID=Europe/Madrid;VALUE=DATE-TIME:20220921T190000
DTEND;TZID=Europe/Madrid;VALUE=DATE-TIME:20220921T200000
DTSTAMP;VALUE=DATE-TIME:20260421T162834Z
UID:a9eac275262c78a07e0d44734fae0545
CREATED;VALUE=DATE-TIME:20220921T000000Z
CATEGORIES:Tertúlies,Jornades
LOCATION:Espai d'arts escèniques Casal d'Alella - Carrer de Santa Teresa, 9 08328 Alella
ORGANIZER:Comissió de Cooperació Internacional de l'Ajuntament d'Alella
URL:https://www.mynerva.net/ajalella/document.php?id=18032
END:VEVENT
END:VCALENDAR