BEGIN:VCALENDAR
VERSION:2.0
PRODID:-//Plone.org//NONSGML plone.app.event//EN
X-WR-TIMEZONE:Europe/Madrid
BEGIN:VEVENT
SUMMARY:Cançons de vi i de taverna amb Jaume Arnella
DTSTART;TZID=Europe/Madrid;VALUE=DATE-TIME:20220917T220000
DTEND;TZID=Europe/Madrid;VALUE=DATE-TIME:20220917T230000
DTSTAMP;VALUE=DATE-TIME:20260419T145238Z
UID:ee49b93ea34d1210292413ebabdaa950
CREATED;VALUE=DATE-TIME:20220917T000000Z
CATEGORIES:Espectacles,Música,Festes i fires
LOCATION:Espai social del Casal d'Alella. C. de Santa Madrona, 10. Alella (El Maresme)
ORGANIZER:Associació Casal d'Alella
COMMENT:Preu: Gratuït
Durada: A partir de les 22 h
URL:https://www.mynerva.net/ajalella/document.php?id=18042
END:VEVENT
END:VCALENDAR