BEGIN:VCALENDAR
VERSION:2.0
PRODID:-//Plone.org//NONSGML plone.app.event//EN
X-WR-TIMEZONE:Europe/Madrid
BEGIN:VEVENT
SUMMARY:Gra de sorra amb Lluís Platero
DTSTART;TZID=Europe/Madrid;VALUE=DATE-TIME:20220924T220000
DTEND;TZID=Europe/Madrid;VALUE=DATE-TIME:20220924T230000
DTSTAMP;VALUE=DATE-TIME:20260421T144611Z
UID:e37e4d61d8095be2d6c5249898804733
CREATED;VALUE=DATE-TIME:20220924T000000Z
CATEGORIES:Espectacles,Música,Joves
LOCATION:Espai social del Casal d'Alella. C. de Santa Madrona, 10. Alella (El Maresme)
ORGANIZER:Associació Casal d'Alella
COMMENT:Preu: Gratuït
Durada: A partir de les 22 h
URL:https://www.mynerva.net/ajalella/document.php?id=18043
END:VEVENT
END:VCALENDAR