BEGIN:VCALENDAR
VERSION:2.0
PRODID:-//Plone.org//NONSGML plone.app.event//EN
X-WR-TIMEZONE:Europe/Madrid
BEGIN:VEVENT
SUMMARY:Inauguració de l'exposició "Un món en petit"
DTSTART;TZID=Europe/Madrid;VALUE=DATE-TIME:20220907T193000
DTEND;TZID=Europe/Madrid;VALUE=DATE-TIME:20220907T203000
DTSTAMP;VALUE=DATE-TIME:20260419T145512Z
UID:e220cd00952df9c77ea9e8c26211ab4c
CREATED;VALUE=DATE-TIME:20220907T000000Z
CATEGORIES:Exposició
LOCATION:Antigues Escoles Fabra - Avinguda Ferran Fabra, 1 08328
ORGANIZER:Associació Trabucaires del Vi d'Alella
DESCRIPTION:del 8 al 18 de setembre a les Antigues Escoles Fabra
URL:https://www.mynerva.net/ajalella/document.php?id=18044
END:VEVENT
END:VCALENDAR