BEGIN:VCALENDAR
VERSION:2.0
PRODID:-//Plone.org//NONSGML plone.app.event//EN
X-WR-TIMEZONE:Europe/Madrid
BEGIN:VEVENT
SUMMARY:Celebració del 10è aniversari dels Trabucaires del vi d'Alella
DTSTART;TZID=Europe/Madrid;VALUE=DATE-TIME:20220918T080000
DTEND;TZID=Europe/Madrid;VALUE=DATE-TIME:20220918T090000
DTSTAMP;VALUE=DATE-TIME:20260419T163229Z
UID:6dfc30ca630e6c8f444ffde840257c70
CREATED;VALUE=DATE-TIME:20220918T000000Z
CATEGORIES:Festes i fires
LOCATION:Riera Coma Fosca amb el carrer Mas de Xaxars
ORGANIZER:Ajuntament d'Alella
URL:https://www.mynerva.net/ajalella/document.php?id=18045
END:VEVENT
END:VCALENDAR