BEGIN:VCALENDAR
VERSION:2.0
PRODID:-//Plone.org//NONSGML plone.app.event//EN
X-WR-TIMEZONE:Europe/Madrid
BEGIN:VEVENT
SUMMARY:Puiggraciós i Cingles de Bertí
DTSTART;TZID=Europe/Madrid;VALUE=DATE-TIME:20220924T080000
DTEND;TZID=Europe/Madrid;VALUE=DATE-TIME:20220924T090000
DTSTAMP;VALUE=DATE-TIME:20260421T162043Z
UID:5ec9d9b4864f8c49c2a43388d78e2b4a
CREATED;VALUE=DATE-TIME:20220924T000000Z
CATEGORIES:Sortides,Joves
LOCATION:Sortida de l'aparcament de la Riera Principal
ORGANIZER:Associació Casal d'Alella
COMMENT:Preu: Gratuït
Durada: A partir de les 8 h. Desplaçament amb cotxes particulars.
DESCRIPTION:Camins i llegendes
URL:https://www.mynerva.net/ajalella/document.php?id=18049
END:VEVENT
END:VCALENDAR