BEGIN:VCALENDAR
VERSION:2.0
PRODID:-//Plone.org//NONSGML plone.app.event//EN
X-WR-TIMEZONE:Europe/Madrid
BEGIN:VEVENT
SUMMARY:Cinema. El test
DTSTART;TZID=Europe/Madrid;VALUE=DATE-TIME:20220924T191500
DTEND;TZID=Europe/Madrid;VALUE=DATE-TIME:20220924T201500
DTSTAMP;VALUE=DATE-TIME:20260421T162213Z
UID:73dc4241f8cff2c0275980e0a0efaad5
CREATED;VALUE=DATE-TIME:20220924T000000Z
CATEGORIES:Cinema
LOCATION:Espai d'arts escèniques Casal d'Alella - Carrer de Santa Teresa, 9 08328 Alella
ORGANIZER:Ajuntament d'Alella
COMMENT:Preu: Feiners i Festius: 6,5    Dia de preu reduït: 4,50
Durada: Dissabte 24 de setembre a les 19:15h/ Diumenge 25 de setembre a les 19:15h/ Dilluns 26 de setembre a les 18h i 20:00h
URL:https://www.mynerva.net/ajalella/document.php?id=18117
END:VEVENT
END:VCALENDAR