BEGIN:VCALENDAR
VERSION:2.0
PRODID:-//Plone.org//NONSGML plone.app.event//EN
X-WR-TIMEZONE:Europe/Madrid
BEGIN:VEVENT
SUMMARY:Tastet d'extraescolar a l'Àgora
DTSTART;TZID=Europe/Madrid;VALUE=DATE-TIME:20220921T163000
DTEND;TZID=Europe/Madrid;VALUE=DATE-TIME:20220921T173000
DTSTAMP;VALUE=DATE-TIME:20260421T144635Z
UID:9c4314ebeaf63027642601c463c783bf
CREATED;VALUE=DATE-TIME:20220921T000000Z
CATEGORIES:Jornades,Joves
LOCATION:Espai Jove - Avinguda Ferran Fabra, 1 08328
ORGANIZER:Ajuntament d'Alella
URL:https://www.mynerva.net/ajalella/document.php?id=18157
END:VEVENT
END:VCALENDAR