BEGIN:VCALENDAR
VERSION:2.0
PRODID:-//Plone.org//NONSGML plone.app.event//EN
X-WR-TIMEZONE:Europe/Madrid
BEGIN:VEVENT
SUMMARY:Astrofotografia (planetària, Sol i Lluna)
DTSTART;TZID=Europe/Madrid;VALUE=DATE-TIME:20220929T200000
DTEND;TZID=Europe/Madrid;VALUE=DATE-TIME:20220929T210000
DTSTAMP;VALUE=DATE-TIME:20260419T145315Z
UID:ec8ced1a933ee673deec21b0e6e6b694
CREATED;VALUE=DATE-TIME:20220929T000000Z
CATEGORIES:Tertúlies,Cursos,Joves
LOCATION:Local social del Casal d'Alella
ORGANIZER:Agrupació d'Astronomia d'Alella i Associació Casal d'Alella
COMMENT:Preu: Gratuït
Durada: A partir de les 20 h
DESCRIPTION:Taller de processat digital
URL:https://www.mynerva.net/ajalella/document.php?id=18227
END:VEVENT
END:VCALENDAR