BEGIN:VCALENDAR
VERSION:2.0
PRODID:-//Plone.org//NONSGML plone.app.event//EN
X-WR-TIMEZONE:Europe/Madrid
BEGIN:VEVENT
SUMMARY:25N. Taller d'autodefensa feminista per a noies joves
DTSTART;TZID=Europe/Madrid;VALUE=DATE-TIME:20221124T190000
DTEND;TZID=Europe/Madrid;VALUE=DATE-TIME:20221124T200000
DTSTAMP;VALUE=DATE-TIME:20260419T195326Z
UID:bff944d89a925af802cff188f1c2afdd
CREATED;VALUE=DATE-TIME:20221124T000000Z
CATEGORIES:Literatura,Jornades
LOCATION:Àgora - Avinguda Ferran Fabra, 1 08328
ORGANIZER:Ajuntament d'Alella
COMMENT:Durada: De 19 a 21h
URL:https://www.mynerva.net/ajalella/document.php?id=18409
END:VEVENT
END:VCALENDAR