BEGIN:VCALENDAR
VERSION:2.0
PRODID:-//Plone.org//NONSGML plone.app.event//EN
X-WR-TIMEZONE:Europe/Madrid
BEGIN:VEVENT
SUMMARY:Projecció de la pel·lícula 'Déu és dona'
DTSTART;TZID=Europe/Madrid;VALUE=DATE-TIME:20221124T190000
DTEND;TZID=Europe/Madrid;VALUE=DATE-TIME:20221124T200000
DTSTAMP;VALUE=DATE-TIME:20260419T182226Z
UID:ec4702d4f754ef8725ef85505a5dbbd0
CREATED;VALUE=DATE-TIME:20221124T000000Z
CATEGORIES:Espectacles,Cinema,Tertúlies,Joves
LOCATION:Seu social del Casal d'Alella. C. de Santa Madrona, 10. Alella
ORGANIZER:Associació Casal d'Alella
COMMENT:Preu: Gratuït
Durada: De 19 a 21.30 h
DESCRIPTION:19a Mostra de cinema espiritual i de valors
URL:https://www.mynerva.net/ajalella/document.php?id=18444
END:VEVENT
END:VCALENDAR