BEGIN:VCALENDAR
VERSION:2.0
PRODID:-//Plone.org//NONSGML plone.app.event//EN
X-WR-TIMEZONE:Europe/Madrid
BEGIN:VEVENT
SUMMARY:Jornada d'emprenedoria femenina
DTSTART;TZID=Europe/Madrid;VALUE=DATE-TIME:20221123T100000
DTEND;TZID=Europe/Madrid;VALUE=DATE-TIME:20221123T110000
DTSTAMP;VALUE=DATE-TIME:20260419T165132Z
UID:d02e81187f1c2baa3a254c86faf8b8d3
CREATED;VALUE=DATE-TIME:20221123T000000Z
CATEGORIES:Tertúlies,Jornades
LOCATION:Centre d'empreses Casa del Marquès (El Masnou)
ORGANIZER:Ajuntaments d'Alella, El Masnou i Teià
COMMENT:Preu: Gratuït
Durada: de 10 a 14h
URL:https://www.mynerva.net/ajalella/document.php?id=18555
END:VEVENT
END:VCALENDAR