BEGIN:VCALENDAR
VERSION:2.0
PRODID:-//Plone.org//NONSGML plone.app.event//EN
X-WR-TIMEZONE:Europe/Madrid
BEGIN:VEVENT
SUMMARY:Concert 'Top Revival'
DTSTART;TZID=Europe/Madrid;VALUE=DATE-TIME:20230318T220000
DTEND;TZID=Europe/Madrid;VALUE=DATE-TIME:20230318T230000
DTSTAMP;VALUE=DATE-TIME:20260419T145750Z
UID:fefd1699b128fab2b7eb01190a784c50
CREATED;VALUE=DATE-TIME:20230318T000000Z
CATEGORIES:Espectacles,Música,Joves
LOCATION:Seu social del Casal d'Alella
ORGANIZER:Associació Casal d'Alella
COMMENT:Preu: Gratuït
Durada: de 22 a 23.30 h
URL:https://www.mynerva.net/ajalella/document.php?id=19233
END:VEVENT
END:VCALENDAR