BEGIN:VCALENDAR
VERSION:2.0
PRODID:-//Plone.org//NONSGML plone.app.event//EN
X-WR-TIMEZONE:Europe/Madrid
BEGIN:VEVENT
SUMMARY:Festa Major. Mostra de cuina: Peres farcides
DTSTART;TZID=Europe/Madrid;VALUE=DATE-TIME:20230719T180000
DTEND;TZID=Europe/Madrid;VALUE=DATE-TIME:20230719T190000
DTSTAMP;VALUE=DATE-TIME:20260419T134516Z
UID:ab8b73284c9db9521cc7ebecf4c82707
CREATED;VALUE=DATE-TIME:20230719T000000Z
CATEGORIES:Festes i fires,Vi i gastronomia
LOCATION:Centre Cultural de Can Lleonart - Plaça dels Germans Lleonart, 1 08328 Alella
ORGANIZER:Ajuntament d'Alella
URL:https://www.mynerva.net/ajalella/document.php?id=19799
END:VEVENT
END:VCALENDAR