BEGIN:VCALENDAR
VERSION:2.0
PRODID:-//Plone.org//NONSGML plone.app.event//EN
X-WR-TIMEZONE:Europe/Madrid
BEGIN:VEVENT
SUMMARY:Festa Major. 22a Caminada Popular
DTSTART;TZID=Europe/Madrid;VALUE=DATE-TIME:20230721T210000
DTEND;TZID=Europe/Madrid;VALUE=DATE-TIME:20230721T220000
DTSTAMP;VALUE=DATE-TIME:20260419T202829Z
UID:facdf20e5425b47f4e66dc486f1fc5e5
CREATED;VALUE=DATE-TIME:20230721T000000Z
CATEGORIES:Festes i fires,Esports
LOCATION:Pavelló d'Esports Municipal Abelardo Vera - Passeig de la Creu de Pedra, 29-31. 08328 Alella
ORGANIZER:Ajuntament d'Alella
URL:https://www.mynerva.net/ajalella/document.php?id=19809
END:VEVENT
END:VCALENDAR