BEGIN:VCALENDAR
VERSION:2.0
PRODID:-//Plone.org//NONSGML plone.app.event//EN
X-WR-TIMEZONE:Europe/Madrid
BEGIN:VEVENT
SUMMARY:Festa Major. Torneig de Pàdel
DTSTART;TZID=Europe/Madrid;VALUE=DATE-TIME:20230721T190000
DTEND;TZID=Europe/Madrid;VALUE=DATE-TIME:20230721T200000
DTSTAMP;VALUE=DATE-TIME:20260419T185315Z
UID:b53033fafa4cf27c5075d5e66fe91a31
CREATED;VALUE=DATE-TIME:20230721T000000Z
CATEGORIES:Festes i fires,Esports
LOCATION:Club de Tennis Alella Sistres i Can Teixidó Pàdel Club 
ORGANIZER:Club de Tennis Alella Sistres i Can Teixidó Pàdel Club 
URL:https://www.mynerva.net/ajalella/document.php?id=19810
END:VEVENT
END:VCALENDAR