BEGIN:VCALENDAR
VERSION:2.0
PRODID:-//Plone.org//NONSGML plone.app.event//EN
X-WR-TIMEZONE:Europe/Madrid
BEGIN:VEVENT
SUMMARY:Club de lectura
DTSTART;TZID=Europe/Madrid;VALUE=DATE-TIME:20111215T210000
DTEND;TZID=Europe/Madrid;VALUE=DATE-TIME:20111215T220000
DTSTAMP;VALUE=DATE-TIME:20260424T143910Z
UID:c79d8f6120b77d6268f6d7eede5f8b4c
CREATED;VALUE=DATE-TIME:20111215T000000Z
CATEGORIES:Literatura
LOCATION:Biblioteca Municipal Ferrer i Guàrdia - Hort de la Rectoria. 08328 Alella
ORGANIZER:Ajuntament d'Alella
COMMENT:Preu: Gratuït
URL:https://www.mynerva.net/ajalella/document.php?id=2001
END:VEVENT
END:VCALENDAR