BEGIN:VCALENDAR
VERSION:2.0
PRODID:-//Plone.org//NONSGML plone.app.event//EN
X-WR-TIMEZONE:Europe/Madrid
BEGIN:VEVENT
SUMMARY:4t Cros d'Alella
DTSTART;TZID=Europe/Madrid;VALUE=DATE-TIME:20111218T100000
DTEND;TZID=Europe/Madrid;VALUE=DATE-TIME:20111218T110000
DTSTAMP;VALUE=DATE-TIME:20260424T174851Z
UID:74c9398576806830ceb7468624d32355
CREATED;VALUE=DATE-TIME:20111218T000000Z
CATEGORIES:Esports
LOCATION:El Bosquet - Avinguda del Bosquet, s/n. 08328 Alella
ORGANIZER:Ajuntament d'Alella
COMMENT:Preu: Gratuït
URL:https://www.mynerva.net/ajalella/document.php?id=2002
END:VEVENT
END:VCALENDAR