BEGIN:VCALENDAR
VERSION:2.0
PRODID:-//Plone.org//NONSGML plone.app.event//EN
X-WR-TIMEZONE:Europe/Madrid
BEGIN:VEVENT
SUMMARY:Presentació i valoració del 2n Concurs El Pintxo és la pera
DTSTART;TZID=Europe/Madrid;VALUE=DATE-TIME:20230720T100000
DTEND;TZID=Europe/Madrid;VALUE=DATE-TIME:20230720T110000
DTSTAMP;VALUE=DATE-TIME:20260419T202115Z
UID:398cd42a09011ac28d1a3ef161ca9bec
CREATED;VALUE=DATE-TIME:20230720T000000Z
CATEGORIES:Jornades,Festes i fires
LOCATION:Centre Cultural de Can Lleonart - Plaça dels Germans Lleonart, 1 08328 Alella
ORGANIZER:Ajuntament d'Alella
URL:https://www.mynerva.net/ajalella/document.php?id=20032
END:VEVENT
END:VCALENDAR