BEGIN:VCALENDAR
VERSION:2.0
PRODID:-//Plone.org//NONSGML plone.app.event//EN
X-WR-TIMEZONE:Europe/Madrid
BEGIN:VEVENT
SUMMARY:Karaoke al Casal
DTSTART;TZID=Europe/Madrid;VALUE=DATE-TIME:20230721T200000
DTEND;TZID=Europe/Madrid;VALUE=DATE-TIME:20230721T210000
DTSTAMP;VALUE=DATE-TIME:20260419T184611Z
UID:29bea0539dc643e1fde8160f0af3121b
CREATED;VALUE=DATE-TIME:20230721T000000Z
CATEGORIES:Espectacles,Música,Joves
LOCATION:Casal d'Alella
ORGANIZER:Casal d'Alella i Bar del Casal
COMMENT:Preu: Gratuït
Durada: de 20 a 23.45 h
URL:https://www.mynerva.net/ajalella/document.php?id=20065
END:VEVENT
END:VCALENDAR