BEGIN:VCALENDAR
VERSION:2.0
PRODID:-//Plone.org//NONSGML plone.app.event//EN
X-WR-TIMEZONE:Europe/Madrid
BEGIN:VEVENT
SUMMARY:Alella amb 'La Marató'. Balla per La Marató
DTSTART;TZID=Europe/Madrid;VALUE=DATE-TIME:20111216T223000
DTEND;TZID=Europe/Madrid;VALUE=DATE-TIME:20111216T233000
DTSTAMP;VALUE=DATE-TIME:20260424T155915Z
UID:0c854e411c85b59aae76e198a64441cb
CREATED;VALUE=DATE-TIME:20111216T000000Z
CATEGORIES:
LOCATION:Casal d'Alella - C/ Santa Madrona, 10-12
ORGANIZER:Comissió de festes
COMMENT:Preu: Gratuït
URL:https://www.mynerva.net/ajalella/document.php?id=2011
END:VEVENT
END:VCALENDAR