BEGIN:VCALENDAR
VERSION:2.0
PRODID:-//Plone.org//NONSGML plone.app.event//EN
X-WR-TIMEZONE:Europe/Madrid
BEGIN:VEVENT
SUMMARY:Fira de Nadal. Fira d'artesans
DTSTART;TZID=Europe/Madrid;VALUE=DATE-TIME:20111217T090000
DTEND;TZID=Europe/Madrid;VALUE=DATE-TIME:20111217T100000
DTSTAMP;VALUE=DATE-TIME:20260424T143742Z
UID:2f2483e94472a95d6c93722c0c6a1dea
CREATED;VALUE=DATE-TIME:20111217T000000Z
CATEGORIES:
LOCATION:Rambla d'Àngel Guimerà i plaça dels Germans Lleonart
ORGANIZER:Ajuntament d'Alella
COMMENT:Preu: Gratuït
Durada: De 9 a 20h
URL:https://www.mynerva.net/ajalella/document.php?id=2012
END:VEVENT
END:VCALENDAR