BEGIN:VCALENDAR
VERSION:2.0
PRODID:-//Plone.org//NONSGML plone.app.event//EN
X-WR-TIMEZONE:Europe/Madrid
BEGIN:VEVENT
SUMMARY:Fira de Nadal. Fira d'artesans
DTSTART;TZID=Europe/Madrid;VALUE=DATE-TIME:20111218T090000
DTEND;TZID=Europe/Madrid;VALUE=DATE-TIME:20111218T100000
DTSTAMP;VALUE=DATE-TIME:20260424T155748Z
UID:c931419c8a485f3af30a1ee07f3d04b0
CREATED;VALUE=DATE-TIME:20111218T000000Z
CATEGORIES:
LOCATION:Rambla d´Àngel Guimerà i plaça dels Germans Lleonart
ORGANIZER:Ajuntament d'Alella
COMMENT:Preu: Gratuït
Durada: De 9 a 15h
URL:https://www.mynerva.net/ajalella/document.php?id=2014
END:VEVENT
END:VCALENDAR