BEGIN:VCALENDAR
VERSION:2.0
PRODID:-//Plone.org//NONSGML plone.app.event//EN
X-WR-TIMEZONE:Europe/Madrid
BEGIN:VEVENT
SUMMARY:Fira de Nadal. Activitats infantils
DTSTART;TZID=Europe/Madrid;VALUE=DATE-TIME:20111217T110000
DTEND;TZID=Europe/Madrid;VALUE=DATE-TIME:20111217T120000
DTSTAMP;VALUE=DATE-TIME:20260424T143829Z
UID:849ee4ecf130ea88312b256d97057274
CREATED;VALUE=DATE-TIME:20111217T000000Z
CATEGORIES:
LOCATION:Plaça dels Germans Lleonart i Plaça de l'Ajuntament
ORGANIZER:Ajuntament d'Alella
COMMENT:Preu: Gratuït
Durada: D'11 a 14h
URL:https://www.mynerva.net/ajalella/document.php?id=2015
END:VEVENT
END:VCALENDAR