BEGIN:VCALENDAR
VERSION:2.0
PRODID:-//Plone.org//NONSGML plone.app.event//EN
X-WR-TIMEZONE:Europe/Madrid
BEGIN:VEVENT
SUMMARY:25N. Dansa. Helena
DTSTART;TZID=Europe/Madrid;VALUE=DATE-TIME:20231111T190000
DTEND;TZID=Europe/Madrid;VALUE=DATE-TIME:20231111T200000
DTSTAMP;VALUE=DATE-TIME:20260426T062436Z
UID:3cc7a720c5748cafc6b862589533885e
CREATED;VALUE=DATE-TIME:20231111T000000Z
CATEGORIES:Espectacles,Música
LOCATION:Espai d'Arts Escèniques Casal d'Alella - Carrer de Santa Teresa, 9 08328 Alella
ORGANIZER:Ajuntament d'Alella
COMMENT:Durada: 40 minuts
URL:https://www.mynerva.net/ajalella/document.php?id=20154
END:VEVENT
END:VCALENDAR