BEGIN:VCALENDAR
VERSION:2.0
PRODID:-//Plone.org//NONSGML plone.app.event//EN
X-WR-TIMEZONE:Europe/Madrid
BEGIN:VEVENT
SUMMARY:Teatre infantil. Dèmeter - Olympus Kids
DTSTART;TZID=Europe/Madrid;VALUE=DATE-TIME:20231119T183000
DTEND;TZID=Europe/Madrid;VALUE=DATE-TIME:20231119T193000
DTSTAMP;VALUE=DATE-TIME:20260426T062451Z
UID:bf81a24077a9bf2207129a2dbb9632db
CREATED;VALUE=DATE-TIME:20231119T000000Z
CATEGORIES:Espectacles,Familiars
LOCATION:Espai d'Arts Escèniques Casal d'Alella - Carrer de Santa Teresa, 9 08328 Alella
ORGANIZER:Ajuntament d'Alella
COMMENT:Preu: 5&euro;
Durada: Anul·lada la sessió de les 16.30h, només es farà la sessió de les 18.30h.  55 minuts
URL:https://www.mynerva.net/ajalella/document.php?id=20157
END:VEVENT
END:VCALENDAR