BEGIN:VCALENDAR
VERSION:2.0
PRODID:-//Plone.org//NONSGML plone.app.event//EN
X-WR-TIMEZONE:Europe/Madrid
BEGIN:VEVENT
SUMMARY:Alella amb 'La Marató'. Trobada de corals
DTSTART;TZID=Europe/Madrid;VALUE=DATE-TIME:20111217T210000
DTEND;TZID=Europe/Madrid;VALUE=DATE-TIME:20111217T220000
DTSTAMP;VALUE=DATE-TIME:20260424T143830Z
UID:af861925b96bb380d74fc8746e3ec7fa
CREATED;VALUE=DATE-TIME:20111217T000000Z
CATEGORIES:Música
LOCATION:Església Parroquial de Sant Feliu - Plaça de l'Església. 08328 Alella
ORGANIZER:Comissió de festes
COMMENT:Preu: Gratuït
URL:https://www.mynerva.net/ajalella/document.php?id=2017
END:VEVENT
END:VCALENDAR