BEGIN:VCALENDAR
VERSION:2.0
PRODID:-//Plone.org//NONSGML plone.app.event//EN
X-WR-TIMEZONE:Europe/Madrid
BEGIN:VEVENT
SUMMARY:Alella amb 'La Marató'. Galejada dels Trabucaires del Vi d'Alella
DTSTART;TZID=Europe/Madrid;VALUE=DATE-TIME:20111218T100000
DTEND;TZID=Europe/Madrid;VALUE=DATE-TIME:20111218T110000
DTSTAMP;VALUE=DATE-TIME:20260424T174757Z
UID:e8310a72859cf798aee1db265f7c7e57
CREATED;VALUE=DATE-TIME:20111218T000000Z
CATEGORIES:Festes i fires
LOCATION:El Bosquet - Avinguda del Bosquet, s/n. 08328 Alella
ORGANIZER:Ajuntament d'Alella
COMMENT:Preu: Gratuït
URL:https://www.mynerva.net/ajalella/document.php?id=2018
END:VEVENT
END:VCALENDAR