BEGIN:VCALENDAR
VERSION:2.0
PRODID:-//Plone.org//NONSGML plone.app.event//EN
X-WR-TIMEZONE:Europe/Madrid
BEGIN:VEVENT
SUMMARY:Alella amb 'La Marató' de TV3. Tast de brou, croquetes i "pintxos"
DTSTART;TZID=Europe/Madrid;VALUE=DATE-TIME:20111218T110000
DTEND;TZID=Europe/Madrid;VALUE=DATE-TIME:20111218T120000
DTSTAMP;VALUE=DATE-TIME:20260424T174829Z
UID:e7aee37fee28bc47ebfb68170a999ceb
CREATED;VALUE=DATE-TIME:20111218T000000Z
CATEGORIES:
LOCATION:Plaça de l'Ajuntament - Plaça de l'Ajuntament, s/n. 08328 Alella
ORGANIZER:Comissió de festes
URL:https://www.mynerva.net/ajalella/document.php?id=2019
END:VEVENT
END:VCALENDAR