BEGIN:VCALENDAR
VERSION:2.0
PRODID:-//Plone.org//NONSGML plone.app.event//EN
X-WR-TIMEZONE:Europe/Madrid
BEGIN:VEVENT
SUMMARY:Alella amb 'La Marató' de TV3. Activitats infantils
DTSTART;TZID=Europe/Madrid;VALUE=DATE-TIME:20111218T110000
DTEND;TZID=Europe/Madrid;VALUE=DATE-TIME:20111218T120000
DTSTAMP;VALUE=DATE-TIME:20260424T175034Z
UID:c85fe4c4aaaba1bdae8553b0218877bc
CREATED;VALUE=DATE-TIME:20111218T000000Z
CATEGORIES:
LOCATION:Plaça de l'Ajuntament - Plaça de l'Ajuntament, s/n. 08328 Alella
ORGANIZER:Comissió de festes
COMMENT:Preu: Gratuït
Durada: D'11 a 13h
URL:https://www.mynerva.net/ajalella/document.php?id=2020
END:VEVENT
END:VCALENDAR