BEGIN:VCALENDAR
VERSION:2.0
PRODID:-//Plone.org//NONSGML plone.app.event//EN
X-WR-TIMEZONE:Europe/Madrid
BEGIN:VEVENT
SUMMARY:Alella amb 'La Marató' de TV3. Plantada de gegants
DTSTART;TZID=Europe/Madrid;VALUE=DATE-TIME:20111218T120000
DTEND;TZID=Europe/Madrid;VALUE=DATE-TIME:20111218T130000
DTSTAMP;VALUE=DATE-TIME:20260424T174921Z
UID:6d1197406236d1220f6e3c3b53f76622
CREATED;VALUE=DATE-TIME:20111218T000000Z
CATEGORIES:
LOCATION:Plaça de l'Ajuntament - Plaça de l'Ajuntament, s/n. 08328 Alella
ORGANIZER:Comissió de festes
COMMENT:Preu: Gratuït
URL:https://www.mynerva.net/ajalella/document.php?id=2021
END:VEVENT
END:VCALENDAR