BEGIN:VCALENDAR
VERSION:2.0
PRODID:-//Plone.org//NONSGML plone.app.event//EN
X-WR-TIMEZONE:Europe/Madrid
BEGIN:VEVENT
SUMMARY:Alella amb 'La Marató' de TV3. Cantata 'Les coses petites'
DTSTART;TZID=Europe/Madrid;VALUE=DATE-TIME:20111218T180000
DTEND;TZID=Europe/Madrid;VALUE=DATE-TIME:20111218T190000
DTSTAMP;VALUE=DATE-TIME:20260424T175040Z
UID:4dd1804a3e468ec7b89a5fa5b6073183
CREATED;VALUE=DATE-TIME:20111218T000000Z
CATEGORIES:Música
LOCATION:Centre Cultural de Can Lleonart - Plaça dels Germans Lleonart, 1 08328 Alella
ORGANIZER:Comissió de festes
COMMENT:Preu: Gratuït
Durada: 1a sessió a les 18h i 2n sessió a les 19h
URL:https://www.mynerva.net/ajalella/document.php?id=2022
END:VEVENT
END:VCALENDAR