BEGIN:VCALENDAR
VERSION:2.0
PRODID:-//Plone.org//NONSGML plone.app.event//EN
X-WR-TIMEZONE:Europe/Madrid
BEGIN:VEVENT
SUMMARY:Fira de Nadal. Activitat infantil
DTSTART;TZID=Europe/Madrid;VALUE=DATE-TIME:20111218T110000
DTEND;TZID=Europe/Madrid;VALUE=DATE-TIME:20111218T120000
DTSTAMP;VALUE=DATE-TIME:20260424T174947Z
UID:d392339866ea04ba41c3678dbe12386b
CREATED;VALUE=DATE-TIME:20111218T000000Z
CATEGORIES:
LOCATION:Plaça dels Germans Lleonart
ORGANIZER:Ajuntament d'Alella
COMMENT:Preu: Gratuït
Durada: D'11 a 14h
URL:https://www.mynerva.net/ajalella/document.php?id=2024
END:VEVENT
END:VCALENDAR