BEGIN:VCALENDAR
VERSION:2.0
PRODID:-//Plone.org//NONSGML plone.app.event//EN
X-WR-TIMEZONE:Europe/Madrid
BEGIN:VEVENT
SUMMARY:25N. Taller d'autodefensa per a dones
DTSTART;TZID=Europe/Madrid;VALUE=DATE-TIME:20231124T110000
DTEND;TZID=Europe/Madrid;VALUE=DATE-TIME:20231124T120000
DTSTAMP;VALUE=DATE-TIME:20260426T045705Z
UID:09aec9a3698431c34cfdc8457b0084f1
CREATED;VALUE=DATE-TIME:20231124T000000Z
CATEGORIES:Jornades
LOCATION:Centre Cultural de Can Lleonart - Plaça dels Germans Lleonart, 1 08328 Alella
ORGANIZER:Regidoria de Gent Gran- Ajuntament d'Alella
URL:https://www.mynerva.net/ajalella/document.php?id=20278
END:VEVENT
END:VCALENDAR