BEGIN:VCALENDAR
VERSION:2.0
PRODID:-//Plone.org//NONSGML plone.app.event//EN
X-WR-TIMEZONE:Europe/Madrid
BEGIN:VEVENT
SUMMARY:3es Jornades de Salut Mental. "Arqueologia d'afectes i sensibilitats", un taller amb l'artista Nataly Prada
DTSTART;TZID=Europe/Madrid;VALUE=DATE-TIME:20231111T103000
DTEND;TZID=Europe/Madrid;VALUE=DATE-TIME:20231111T113000
DTSTAMP;VALUE=DATE-TIME:20260426T062725Z
UID:0d22272fa7b1c1a7a0d9235b2b998def
CREATED;VALUE=DATE-TIME:20231111T000000Z
CATEGORIES:Exposició,Jornades,Familiars,Joves
LOCATION:Centre Cultural de Can Lleonart - Plaça dels Germans Lleonart, 1 08328 Alella
ORGANIZER:Ajuntament d'Alella
COMMENT:Preu: Gratuït
URL:https://www.mynerva.net/ajalella/document.php?id=20291
END:VEVENT
END:VCALENDAR