BEGIN:VCALENDAR
VERSION:2.0
PRODID:-//Plone.org//NONSGML plone.app.event//EN
X-WR-TIMEZONE:Europe/Madrid
BEGIN:VEVENT
SUMMARY:3es Jornades de Salut Mental. Taller. Arqueologia d'afectes i sensibilitats
DTSTART;TZID=Europe/Madrid;VALUE=DATE-TIME:20231111T103000
DTEND;TZID=Europe/Madrid;VALUE=DATE-TIME:20231111T113000
DTSTAMP;VALUE=DATE-TIME:20260426T062344Z
UID:6434f72e269d23759b3be0daa6bd68d8
CREATED;VALUE=DATE-TIME:20231111T000000Z
CATEGORIES:Tertúlies,Jornades
LOCATION:Centre Cultural de Can Lleonart - Plaça dels Germans Lleonart, 1 08328 Alella
ORGANIZER:Ajuntament d'Alella
URL:https://www.mynerva.net/ajalella/document.php?id=20367
END:VEVENT
END:VCALENDAR