BEGIN:VCALENDAR
VERSION:2.0
PRODID:-//Plone.org//NONSGML plone.app.event//EN
X-WR-TIMEZONE:Europe/Madrid
BEGIN:VEVENT
SUMMARY:Correllengua. Lliurament dels Premis Literaris Alella 2023 amb concert de Lia Sampai i Adrià Pagès
DTSTART;TZID=Europe/Madrid;VALUE=DATE-TIME:20231118T190000
DTEND;TZID=Europe/Madrid;VALUE=DATE-TIME:20231118T200000
DTSTAMP;VALUE=DATE-TIME:20260426T062359Z
UID:3d28e23f0d50f9a39296309632464dd3
CREATED;VALUE=DATE-TIME:20231118T000000Z
CATEGORIES:Música,Literatura,Jornades
LOCATION:Centre Cultural de Can Lleonart - Plaça dels Germans Lleonart, 1 08328 Alella
ORGANIZER:Ajuntament d'Alella
COMMENT:Preu: Gratuït
URL:https://www.mynerva.net/ajalella/document.php?id=20372
END:VEVENT
END:VCALENDAR