BEGIN:VCALENDAR
VERSION:2.0
PRODID:-//Plone.org//NONSGML plone.app.event//EN
X-WR-TIMEZONE:Europe/Madrid
BEGIN:VEVENT
SUMMARY:MercaFabra: Mercat infantil de segona mà
DTSTART;TZID=Europe/Madrid;VALUE=DATE-TIME:20231111T100000
DTEND;TZID=Europe/Madrid;VALUE=DATE-TIME:20231111T110000
DTSTAMP;VALUE=DATE-TIME:20260426T045310Z
UID:acac3a997ab93d89290ba00c0319f99e
CREATED;VALUE=DATE-TIME:20231111T000000Z
CATEGORIES:Festes i fires,Familiars
LOCATION:Plaça d'Antoni Pujadas - Plaça d'Antoni Pujadas. 08328 Alella
ORGANIZER:AFA Escola Fabra amb la col·laboració de l'Ajuntament
COMMENT:Durada: De 10 a 14h
URL:https://www.mynerva.net/ajalella/document.php?id=20432
END:VEVENT
END:VCALENDAR