BEGIN:VCALENDAR
VERSION:2.0
PRODID:-//Plone.org//NONSGML plone.app.event//EN
X-WR-TIMEZONE:Europe/Madrid
BEGIN:VEVENT
SUMMARY:Acte informatiu sobre el nou equipament cultural d'Alella
DTSTART;TZID=Europe/Madrid;VALUE=DATE-TIME:20111214T203000
DTEND;TZID=Europe/Madrid;VALUE=DATE-TIME:20111214T213000
DTSTAMP;VALUE=DATE-TIME:20260424T143932Z
UID:1a99e5b176a58cf8e1d24fb1c8eafccd
CREATED;VALUE=DATE-TIME:20111214T000000Z
CATEGORIES:
LOCATION:Casal d'Alella - C/Santa Madrona, s/n
ORGANIZER:Ajuntament d'Alella
COMMENT:Preu: Gratuït
URL:https://www.mynerva.net/ajalella/document.php?id=2044
END:VEVENT
END:VCALENDAR