BEGIN:VCALENDAR
VERSION:2.0
PRODID:-//Plone.org//NONSGML plone.app.event//EN
X-WR-TIMEZONE:Europe/Madrid
BEGIN:VEVENT
SUMMARY:Concert: Ivan Gas
DTSTART;TZID=Europe/Madrid;VALUE=DATE-TIME:20231111T220000
DTEND;TZID=Europe/Madrid;VALUE=DATE-TIME:20231111T230000
DTSTAMP;VALUE=DATE-TIME:20260426T062451Z
UID:450f2dda1ee1531d710c480d9b5c411e
CREATED;VALUE=DATE-TIME:20231111T000000Z
CATEGORIES:Música
LOCATION:Espai social del Casal d'Alella
ORGANIZER:Associació Casal d'Alella
COMMENT:Preu: Taquilla inversa
Durada: de 22 a 24 h
DESCRIPTION:Presentació del seu últim disc.
URL:https://www.mynerva.net/ajalella/document.php?id=20465
END:VEVENT
END:VCALENDAR