BEGIN:VCALENDAR
VERSION:2.0
PRODID:-//Plone.org//NONSGML plone.app.event//EN
X-WR-TIMEZONE:Europe/Madrid
BEGIN:VEVENT
SUMMARY:Poesia de tardor al migdia
DTSTART;TZID=Europe/Madrid;VALUE=DATE-TIME:20231119T120000
DTEND;TZID=Europe/Madrid;VALUE=DATE-TIME:20231119T130000
DTSTAMP;VALUE=DATE-TIME:20260426T062836Z
UID:95a83887839b46173e80f9ea351fbbcc
CREATED;VALUE=DATE-TIME:20231119T000000Z
CATEGORIES:Literatura
LOCATION:Espai social del Casal d'Alella
ORGANIZER:Associació Casal d'Alella
COMMENT:Preu: Gratuït
Durada: de 12 a 13.30 h
DESCRIPTION:Lectura de poemes d'autor
URL:https://www.mynerva.net/ajalella/document.php?id=20474
END:VEVENT
END:VCALENDAR