BEGIN:VCALENDAR
VERSION:2.0
PRODID:-//Plone.org//NONSGML plone.app.event//EN
X-WR-TIMEZONE:Europe/Madrid
BEGIN:VEVENT
SUMMARY:Nit de jazz
DTSTART;TZID=Europe/Madrid;VALUE=DATE-TIME:20231118T220000
DTEND;TZID=Europe/Madrid;VALUE=DATE-TIME:20231118T230000
DTSTAMP;VALUE=DATE-TIME:20260426T062456Z
UID:9aef436fff9f12112cd53362873c5236
CREATED;VALUE=DATE-TIME:20231118T000000Z
CATEGORIES:Música
LOCATION:Espai social del Casal d'Alella
ORGANIZER:Associació Casal d'Alella
COMMENT:Preu: Taquilla inversa
Durada: de 22 a 24 h
DESCRIPTION:A càrrec de Marian Barahona, acompanyada de piano
URL:https://www.mynerva.net/ajalella/document.php?id=20475
END:VEVENT
END:VCALENDAR