BEGIN:VCALENDAR
VERSION:2.0
PRODID:-//Plone.org//NONSGML plone.app.event//EN
X-WR-TIMEZONE:Europe/Madrid
BEGIN:VEVENT
SUMMARY:KARAOKE
DTSTART;TZID=Europe/Madrid;VALUE=DATE-TIME:20231124T200000
DTEND;TZID=Europe/Madrid;VALUE=DATE-TIME:20231124T210000
DTSTAMP;VALUE=DATE-TIME:20260426T062058Z
UID:29ad9c628b953b26f2b75c367d5a4a4f
CREATED;VALUE=DATE-TIME:20231124T000000Z
CATEGORIES:Música
LOCATION:Espai social del Casal d'Alella
ORGANIZER:Associació Casal d'Alella
COMMENT:Preu: Gratuït
Durada: de 20 a 24 h
URL:https://www.mynerva.net/ajalella/document.php?id=20477
END:VEVENT
END:VCALENDAR