BEGIN:VCALENDAR
VERSION:2.0
PRODID:-//Plone.org//NONSGML plone.app.event//EN
X-WR-TIMEZONE:Europe/Madrid
BEGIN:VEVENT
SUMMARY:Homenatge a Pau Casals, 50è aniversari de la seva mort
DTSTART;TZID=Europe/Madrid;VALUE=DATE-TIME:20231126T113000
DTEND;TZID=Europe/Madrid;VALUE=DATE-TIME:20231126T123000
DTSTAMP;VALUE=DATE-TIME:20260426T061922Z
UID:78298234d66420b6114ce50143c361e2
CREATED;VALUE=DATE-TIME:20231126T000000Z
CATEGORIES:Música
LOCATION:Espai social del Casal d'Alella
ORGANIZER:Associació Casal d'Alella
COMMENT:Preu: Gratuït
Durada: de 11.30 a 13 h
URL:https://www.mynerva.net/ajalella/document.php?id=20480
END:VEVENT
END:VCALENDAR